BEGIN:VCALENDAR
VERSION:2.0
PRODID:-//St. Peter&#039;s Mission Schools - ECPv6.15.13.1//NONSGML v1.0//EN
CALSCALE:GREGORIAN
METHOD:PUBLISH
X-ORIGINAL-URL:https://stpetersmission.edu.gh
X-WR-CALDESC:Events for St. Peter&#039;s Mission Schools
REFRESH-INTERVAL;VALUE=DURATION:PT1H
X-Robots-Tag:noindex
X-PUBLISHED-TTL:PT1H
BEGIN:VTIMEZONE
TZID:UTC
BEGIN:STANDARD
TZOFFSETFROM:+0000
TZOFFSETTO:+0000
TZNAME:UTC
DTSTART:20230101T000000
END:STANDARD
END:VTIMEZONE
BEGIN:VEVENT
DTSTART;TZID=UTC:20240626T080000
DTEND;TZID=UTC:20240627T170000
DTSTAMP:20260422T013521
CREATED:20240611T144100Z
LAST-MODIFIED:20240611T144100Z
UID:532-1719388800-1719507600@stpetersmission.edu.gh
SUMMARY:Career Excursions Lower Primary
DESCRIPTION:Career Excursions Lower Primary
URL:https://stpetersmission.edu.gh/event/career-excursions-lower-primary/
END:VEVENT
END:VCALENDAR