BEGIN:VCALENDAR
VERSION:2.0
PRODID:-//St. Peter&#039;s Mission Schools - ECPv6.15.13.1//NONSGML v1.0//EN
CALSCALE:GREGORIAN
METHOD:PUBLISH
X-WR-CALNAME:St. Peter&#039;s Mission Schools
X-ORIGINAL-URL:https://stpetersmission.edu.gh
X-WR-CALDESC:Events for St. Peter&#039;s Mission Schools
REFRESH-INTERVAL;VALUE=DURATION:PT1H
X-Robots-Tag:noindex
X-PUBLISHED-TTL:PT1H
BEGIN:VTIMEZONE
TZID:UTC
BEGIN:STANDARD
TZOFFSETFROM:+0000
TZOFFSETTO:+0000
TZNAME:UTC
DTSTART:20250101T000000
END:STANDARD
END:VTIMEZONE
BEGIN:VEVENT
DTSTART;VALUE=DATE:20260215
DTEND;VALUE=DATE:20260216
DTSTAMP:20260420T155133
CREATED:20260112T090523Z
LAST-MODIFIED:20260112T091332Z
UID:1744-1771113600-1771199999@stpetersmission.edu.gh
SUMMARY:JHS RESULTS FAIR/PTA
DESCRIPTION:JHS RESULTS FAIR/PTA
URL:https://stpetersmission.edu.gh/event/jhs-results-fair-pta/
CATEGORIES:academic calendar
END:VEVENT
END:VCALENDAR