BEGIN:VCALENDAR
VERSION:2.0
PRODID:-//St. Peter&#039;s Mission Schools - ECPv6.15.13.1//NONSGML v1.0//EN
CALSCALE:GREGORIAN
METHOD:PUBLISH
X-WR-CALNAME:St. Peter&#039;s Mission Schools
X-ORIGINAL-URL:https://stpetersmission.edu.gh
X-WR-CALDESC:Events for St. Peter&#039;s Mission Schools
REFRESH-INTERVAL;VALUE=DURATION:PT1H
X-Robots-Tag:noindex
X-PUBLISHED-TTL:PT1H
BEGIN:VTIMEZONE
TZID:UTC
BEGIN:STANDARD
TZOFFSETFROM:+0000
TZOFFSETTO:+0000
TZNAME:UTC
DTSTART:20230101T000000
END:STANDARD
END:VTIMEZONE
BEGIN:VEVENT
DTSTART;TZID=UTC:20250730T080000
DTEND;TZID=UTC:20250730T170000
DTSTAMP:20260421T023425
CREATED:20250514T100242Z
LAST-MODIFIED:20250514T100242Z
UID:1468-1753862400-1753894800@stpetersmission.edu.gh
SUMMARY:END OF THIRD TERM - VACATION
DESCRIPTION:END OF THIRD TERM – VACATION
URL:https://stpetersmission.edu.gh/event/end-of-third-term-vacation/
CATEGORIES:academic calendar
END:VEVENT
BEGIN:VEVENT
DTSTART;TZID=UTC:20250715T080000
DTEND;TZID=UTC:20250722T170000
DTSTAMP:20260421T023425
CREATED:20250514T094420Z
LAST-MODIFIED:20250514T094420Z
UID:1462-1752566400-1753203600@stpetersmission.edu.gh
SUMMARY:END OF TERM EXAMINATIONS
DESCRIPTION:END OF TERM EXAMINATIONS
URL:https://stpetersmission.edu.gh/event/end-of-term-examinations/
CATEGORIES:academic calendar
END:VEVENT
BEGIN:VEVENT
DTSTART;VALUE=DATE:20250712
DTEND;VALUE=DATE:20250713
DTSTAMP:20260421T023425
CREATED:20250514T094236Z
LAST-MODIFIED:20250514T094236Z
UID:1458-1752278400-1752364799@stpetersmission.edu.gh
SUMMARY:PRIMARY SCHOOL GRADUATON
DESCRIPTION:PRIMARY SCHOOL GRADUATON
URL:https://stpetersmission.edu.gh/event/primary-school-graduaton/
CATEGORIES:academic calendar
END:VEVENT
BEGIN:VEVENT
DTSTART;VALUE=DATE:20250628
DTEND;VALUE=DATE:20250629
DTSTAMP:20260421T023425
CREATED:20250514T094120Z
LAST-MODIFIED:20250514T094120Z
UID:1448-1751068800-1751155199@stpetersmission.edu.gh
SUMMARY:NURSERY GRADUATION & FOUNDERS’ DAY
DESCRIPTION:NURSERY GRADUATION & FOUNDERS’ DAY
URL:https://stpetersmission.edu.gh/event/nursery-graduation-founders-day/
CATEGORIES:academic calendar
END:VEVENT
BEGIN:VEVENT
DTSTART;VALUE=DATE:20250626
DTEND;VALUE=DATE:20250627
DTSTAMP:20260421T023425
CREATED:20250514T100132Z
LAST-MODIFIED:20250514T100132Z
UID:1465-1750896000-1750982399@stpetersmission.edu.gh
SUMMARY:SPMS INTERNATIONAL GRADUATION
DESCRIPTION:SPMS INTERNATIONAL GRADUATION
URL:https://stpetersmission.edu.gh/event/spms-international-graduation-2/
CATEGORIES:academic calendar
END:VEVENT
BEGIN:VEVENT
DTSTART;TZID=UTC:20250622T080000
DTEND;TZID=UTC:20250622T170000
DTSTAMP:20260421T023425
CREATED:20250514T094032Z
LAST-MODIFIED:20250514T094032Z
UID:1446-1750579200-1750611600@stpetersmission.edu.gh
SUMMARY:FATHER’S DAY CELEBRATION
DESCRIPTION:FATHER’S DAY CELEBRATION
URL:https://stpetersmission.edu.gh/event/fathers-day-celebration/
CATEGORIES:academic calendar
END:VEVENT
BEGIN:VEVENT
DTSTART;TZID=UTC:20250611T150000
DTEND;TZID=UTC:20250611T170000
DTSTAMP:20260421T023425
CREATED:20250514T093627Z
LAST-MODIFIED:20250514T093627Z
UID:1439-1749654000-1749661200@stpetersmission.edu.gh
SUMMARY:MID -TERM BREAK BEGINS (AFTER SCHOOL)
DESCRIPTION:MID -TERM BREAK BEGINS\n(AFTER SCHOOL)
URL:https://stpetersmission.edu.gh/event/mid-term-break-begins-after-school/
CATEGORIES:academic calendar
END:VEVENT
BEGIN:VEVENT
DTSTART;TZID=UTC:20250609T080000
DTEND;TZID=UTC:20250609T170000
DTSTAMP:20260421T023425
CREATED:20250513T173524Z
LAST-MODIFIED:20250513T173524Z
UID:1436-1749456000-1749488400@stpetersmission.edu.gh
SUMMARY:MUSLIM HOLIDAY (EID-UL-ADHA)
DESCRIPTION:MUSLIM HOLIDAY (EID-UL-ADHA)
URL:https://stpetersmission.edu.gh/event/muslim-holiday-eid-ul-adha-2/
CATEGORIES:academic calendar
END:VEVENT
BEGIN:VEVENT
DTSTART;TZID=UTC:20250603T080000
DTEND;TZID=UTC:20250603T170000
DTSTAMP:20260421T023425
CREATED:20250513T173254Z
LAST-MODIFIED:20250514T093210Z
UID:1433-1748937600-1748970000@stpetersmission.edu.gh
SUMMARY:MID TERM EXAMS ENDS
DESCRIPTION:MID TERM EXAMS ENDS
URL:https://stpetersmission.edu.gh/event/mid-term-exams-ends/
CATEGORIES:academic calendar
END:VEVENT
BEGIN:VEVENT
DTSTART;TZID=UTC:20250602T080000
DTEND;TZID=UTC:20250602T170000
DTSTAMP:20260421T023425
CREATED:20250513T173131Z
LAST-MODIFIED:20250513T173131Z
UID:1431-1748851200-1748883600@stpetersmission.edu.gh
SUMMARY:MID TERM EXAMS STARTS
DESCRIPTION:MID TERM EXAMS STARTS
URL:https://stpetersmission.edu.gh/event/mid-term-exams-starts/
CATEGORIES:academic calendar
END:VEVENT
BEGIN:VEVENT
DTSTART;TZID=UTC:20250525T080000
DTEND;TZID=UTC:20250525T170000
DTSTAMP:20260421T023425
CREATED:20250513T172918Z
LAST-MODIFIED:20250514T093227Z
UID:1428-1748160000-1748192400@stpetersmission.edu.gh
SUMMARY:SPECIAL MOTHER’S DAY PROGRAMME
DESCRIPTION:SPECIAL MOTHER’S DAY PROGRAMME
URL:https://stpetersmission.edu.gh/event/special-mothers-day-programme/
CATEGORIES:academic calendar
END:VEVENT
BEGIN:VEVENT
DTSTART;VALUE=DATE:20250523
DTEND;VALUE=DATE:20250524
DTSTAMP:20260421T023425
CREATED:20250513T172706Z
LAST-MODIFIED:20250514T093221Z
UID:1425-1747958400-1748044799@stpetersmission.edu.gh
SUMMARY:AFRICAN UNION DAY
DESCRIPTION:AU DAY
URL:https://stpetersmission.edu.gh/event/african-union-day/
CATEGORIES:academic calendar
END:VEVENT
BEGIN:VEVENT
DTSTART;TZID=UTC:20250519T080000
DTEND;TZID=UTC:20250523T170000
DTSTAMP:20260421T023425
CREATED:20250513T172544Z
LAST-MODIFIED:20250513T172544Z
UID:1423-1747641600-1748019600@stpetersmission.edu.gh
SUMMARY:CULTURAL WEEK
DESCRIPTION:CULTURAL WEEK
URL:https://stpetersmission.edu.gh/event/cultural-week/
CATEGORIES:academic calendar
END:VEVENT
BEGIN:VEVENT
DTSTART;TZID=UTC:20250516T080000
DTEND;TZID=UTC:20250516T170000
DTSTAMP:20260421T023425
CREATED:20250514T093931Z
LAST-MODIFIED:20250514T093931Z
UID:1447-1747382400-1747414800@stpetersmission.edu.gh
SUMMARY:RESUMPTION FROM MID-TERM BREAK (GENERAL)
DESCRIPTION:RESUMPTION FROM MID-TERM BREAK (GENERAL)
URL:https://stpetersmission.edu.gh/event/resumption-from-mid-term-break-general/
CATEGORIES:academic calendar
END:VEVENT
BEGIN:VEVENT
DTSTART;TZID=UTC:20250515T080000
DTEND;TZID=UTC:20250515T170000
DTSTAMP:20260421T023425
CREATED:20250514T093651Z
LAST-MODIFIED:20250514T093834Z
UID:1441-1747296000-1747328400@stpetersmission.edu.gh
SUMMARY:RESUMPTION FROM MID-TERM BREAK (BOARDERS)
DESCRIPTION:RESUMPTION FROM MID-TERM BREAK (BOARDERS)
URL:https://stpetersmission.edu.gh/event/resumption-from-mid-term-break/
CATEGORIES:academic calendar
END:VEVENT
BEGIN:VEVENT
DTSTART;TZID=UTC:20250512T080000
DTEND;TZID=UTC:20250516T170000
DTSTAMP:20260421T023425
CREATED:20250513T172331Z
LAST-MODIFIED:20250513T172331Z
UID:1421-1747036800-1747414800@stpetersmission.edu.gh
SUMMARY:SECURITY AND SAFETY WEEK
DESCRIPTION:SECURITY AND SAFETY WEEK
URL:https://stpetersmission.edu.gh/event/security-and-safety-week/
CATEGORIES:academic calendar
END:VEVENT
BEGIN:VEVENT
DTSTART;TZID=UTC:20250506T080000
DTEND;TZID=UTC:20250506T170000
DTSTAMP:20260421T023425
CREATED:20250513T172149Z
LAST-MODIFIED:20250514T093237Z
UID:1419-1746518400-1746550800@stpetersmission.edu.gh
SUMMARY:REOPENING FOR THIRD TERM
DESCRIPTION:REOPENING FOR THIRD TERM
URL:https://stpetersmission.edu.gh/event/reopening-for-third-term/
CATEGORIES:academic calendar
END:VEVENT
BEGIN:VEVENT
DTSTART;VALUE=DATE:20240830
DTEND;VALUE=DATE:20240831
DTSTAMP:20260421T023425
CREATED:20240709T111924Z
LAST-MODIFIED:20240709T113334Z
UID:924-1724976000-1725062399@stpetersmission.edu.gh
SUMMARY:SUMMER SCHOOL ENDS
DESCRIPTION:SUMMER SCHOOL ENDS
URL:https://stpetersmission.edu.gh/event/summer-school-ends/
LOCATION:All Campuses\, Ghana
CATEGORIES:academic calendar
ATTACH;FMTTYPE=image/jpeg:https://stpetersmission.edu.gh/new24/wp-content/uploads/2024/06/photo_2023-06-09_14-24-06-1.jpg
END:VEVENT
BEGIN:VEVENT
DTSTART;VALUE=DATE:20240806
DTEND;VALUE=DATE:20240807
DTSTAMP:20260421T023425
CREATED:20240709T110541Z
LAST-MODIFIED:20240709T113254Z
UID:918-1722902400-1722988799@stpetersmission.edu.gh
SUMMARY:SUMMER SCHOOL BEGINS
DESCRIPTION:
URL:https://stpetersmission.edu.gh/event/summer-school-begins/
LOCATION:All Campuses\, Ghana
CATEGORIES:academic calendar
ATTACH;FMTTYPE=image/jpeg:https://stpetersmission.edu.gh/new24/wp-content/uploads/2024/06/photo_2023-09-15_16-17-02-1.jpg
END:VEVENT
BEGIN:VEVENT
DTSTART;VALUE=DATE:20240731
DTEND;VALUE=DATE:20240801
DTSTAMP:20260421T023425
CREATED:20240709T105636Z
LAST-MODIFIED:20240709T110327Z
UID:905-1722384000-1722470399@stpetersmission.edu.gh
SUMMARY:3RD TERM VACATION
DESCRIPTION:3RD TERM VACATION
URL:https://stpetersmission.edu.gh/event/3rd-term-vacation/
LOCATION:East Legon Campus
CATEGORIES:academic calendar
ATTACH;FMTTYPE=image/jpeg:https://stpetersmission.edu.gh/new24/wp-content/uploads/2024/06/gg1-300x200-1.jpg
END:VEVENT
BEGIN:VEVENT
DTSTART;VALUE=DATE:20240727
DTEND;VALUE=DATE:20240728
DTSTAMP:20260421T023425
CREATED:20240709T110348Z
LAST-MODIFIED:20240709T111223Z
UID:912-1722038400-1722124799@stpetersmission.edu.gh
SUMMARY:SPMS INTERNATIONAL GRADUATION
DESCRIPTION:
URL:https://stpetersmission.edu.gh/event/spms-international-graduation/
LOCATION:SPMS International\, Nsawam\, Kwafokrom\, Nsawam\, Ghana
CATEGORIES:academic calendar
ATTACH;FMTTYPE=image/jpeg:https://stpetersmission.edu.gh/new24/wp-content/uploads/2024/07/spms-carol202301_8440.jpg
END:VEVENT
BEGIN:VEVENT
DTSTART;VALUE=DATE:20240721
DTEND;VALUE=DATE:20240722
DTSTAMP:20260421T023425
CREATED:20240709T110422Z
LAST-MODIFIED:20240709T111331Z
UID:914-1721520000-1721606399@stpetersmission.edu.gh
SUMMARY:BOARDER’S VISITING DAY
DESCRIPTION:
URL:https://stpetersmission.edu.gh/event/boarders-visiting-day/
LOCATION:All Campuses\, Ghana
CATEGORIES:academic calendar
ATTACH;FMTTYPE=image/jpeg:https://stpetersmission.edu.gh/new24/wp-content/uploads/2024/06/photo_2023-09-15_16-11-20-1.jpg
END:VEVENT
BEGIN:VEVENT
DTSTART;VALUE=DATE:20240720
DTEND;VALUE=DATE:20240721
DTSTAMP:20260421T023425
CREATED:20240709T110504Z
LAST-MODIFIED:20240709T111522Z
UID:916-1721433600-1721519999@stpetersmission.edu.gh
SUMMARY:UPPER PRIMARY GRADUATION
DESCRIPTION:UPPER PRIMARY GRADUATION
URL:https://stpetersmission.edu.gh/event/upper-primary-graduation/
LOCATION:All Campuses\, Ghana
CATEGORIES:academic calendar
ATTACH;FMTTYPE=image/jpeg:https://stpetersmission.edu.gh/new24/wp-content/uploads/2024/07/spms_bw_9386.jpg
END:VEVENT
BEGIN:VEVENT
DTSTART;VALUE=DATE:20240712
DTEND;VALUE=DATE:20240713
DTSTAMP:20260421T023425
CREATED:20240709T111819Z
LAST-MODIFIED:20240709T111819Z
UID:923-1720742400-1720828799@stpetersmission.edu.gh
SUMMARY:FINALIST RESUMPTION
DESCRIPTION:
URL:https://stpetersmission.edu.gh/event/finalist-resumption/
LOCATION:All Campuses\, Ghana
CATEGORIES:academic calendar
ATTACH;FMTTYPE=image/jpeg:https://stpetersmission.edu.gh/new24/wp-content/uploads/2024/07/spms-gg6.jpg
END:VEVENT
BEGIN:VEVENT
DTSTART;VALUE=DATE:20240628
DTEND;VALUE=DATE:20240629
DTSTAMP:20260421T023425
CREATED:20240611T144135Z
LAST-MODIFIED:20240611T144135Z
UID:534-1719532800-1719619199@stpetersmission.edu.gh
SUMMARY:School Founders’ Day
DESCRIPTION:School Founders’ Day
URL:https://stpetersmission.edu.gh/event/school-founders-day/
END:VEVENT
BEGIN:VEVENT
DTSTART;TZID=UTC:20240626T080000
DTEND;TZID=UTC:20240627T170000
DTSTAMP:20260421T023425
CREATED:20240611T144100Z
LAST-MODIFIED:20240611T144100Z
UID:532-1719388800-1719507600@stpetersmission.edu.gh
SUMMARY:Career Excursions Lower Primary
DESCRIPTION:Career Excursions Lower Primary
URL:https://stpetersmission.edu.gh/event/career-excursions-lower-primary/
END:VEVENT
BEGIN:VEVENT
DTSTART;VALUE=DATE:20240623
DTEND;VALUE=DATE:20240624
DTSTAMP:20260421T023425
CREATED:20240611T144011Z
LAST-MODIFIED:20240611T144011Z
UID:530-1719100800-1719187199@stpetersmission.edu.gh
SUMMARY:Boarder’s Visiting Day – Open Day
DESCRIPTION:Boarder’s Visiting Day – Open Day
URL:https://stpetersmission.edu.gh/event/boarders-visiting-day-open-day/
END:VEVENT
BEGIN:VEVENT
DTSTART;VALUE=DATE:20240622
DTEND;VALUE=DATE:20240623
DTSTAMP:20260421T023425
CREATED:20240611T143939Z
LAST-MODIFIED:20240611T143939Z
UID:528-1719014400-1719100799@stpetersmission.edu.gh
SUMMARY:Nursery Graduation
DESCRIPTION:Nursery Graduation
URL:https://stpetersmission.edu.gh/event/nursery-graduation/
END:VEVENT
BEGIN:VEVENT
DTSTART;TZID=UTC:20240617T080000
DTEND;TZID=UTC:20240617T170000
DTSTAMP:20260421T023425
CREATED:20240611T143856Z
LAST-MODIFIED:20240611T143856Z
UID:526-1718611200-1718643600@stpetersmission.edu.gh
SUMMARY:Muslim Holiday (Eid-Ul-Adha)
DESCRIPTION:Muslim Holiday (Eid-Ul-Adha)
URL:https://stpetersmission.edu.gh/event/muslim-holiday-eid-ul-adha/
END:VEVENT
BEGIN:VEVENT
DTSTART;TZID=UTC:20240616T080000
DTEND;TZID=UTC:20240616T170000
DTSTAMP:20260421T023425
CREATED:20240611T143819Z
LAST-MODIFIED:20240611T143819Z
UID:524-1718524800-1718557200@stpetersmission.edu.gh
SUMMARY:Sunday Father’s Day Celebration
DESCRIPTION:Sunday Father’s Day Celebration
URL:https://stpetersmission.edu.gh/event/sunday-fathers-day-celebration/
END:VEVENT
END:VCALENDAR